BEGIN:VCALENDAR
VERSION:2.0
PRODID:-//Spruce Tree Montessori - ECPv6.15.20//NONSGML v1.0//EN
CALSCALE:GREGORIAN
METHOD:PUBLISH
X-WR-CALNAME:Spruce Tree Montessori
X-ORIGINAL-URL:https://sprucetreemontessori.com
X-WR-CALDESC:Events for Spruce Tree Montessori
REFRESH-INTERVAL;VALUE=DURATION:PT1H
X-Robots-Tag:noindex
X-PUBLISHED-TTL:PT1H
BEGIN:VTIMEZONE
TZID:America/Anchorage
BEGIN:DAYLIGHT
TZOFFSETFROM:-0900
TZOFFSETTO:-0800
TZNAME:AKDT
DTSTART:20240310T110000
END:DAYLIGHT
BEGIN:STANDARD
TZOFFSETFROM:-0800
TZOFFSETTO:-0900
TZNAME:AKST
DTSTART:20241103T100000
END:STANDARD
BEGIN:DAYLIGHT
TZOFFSETFROM:-0900
TZOFFSETTO:-0800
TZNAME:AKDT
DTSTART:20250309T110000
END:DAYLIGHT
BEGIN:STANDARD
TZOFFSETFROM:-0800
TZOFFSETTO:-0900
TZNAME:AKST
DTSTART:20251102T100000
END:STANDARD
BEGIN:DAYLIGHT
TZOFFSETFROM:-0900
TZOFFSETTO:-0800
TZNAME:AKDT
DTSTART:20260308T110000
END:DAYLIGHT
BEGIN:STANDARD
TZOFFSETFROM:-0800
TZOFFSETTO:-0900
TZNAME:AKST
DTSTART:20261101T100000
END:STANDARD
END:VTIMEZONE
BEGIN:VEVENT
DTSTART;VALUE=DATE:20250505
DTEND;VALUE=DATE:20250510
DTSTAMP:20260419T051249
CREATED:20250331T174434Z
LAST-MODIFIED:20250331T174434Z
UID:2286-1746403200-1746835199@sprucetreemontessori.com
SUMMARY:Spring Break
DESCRIPTION:Our final intersession break. \nBreak camp offered May 5 – 8\, Monday – Thursday\, no camp Friday for staff work day. \nCamp Theme: Science Camp — lots of outdoor time to celebrate breakup and the start of summertime. \nEmail Annie to enroll your child by April 25.
URL:https://sprucetreemontessori.com/event/spring-break-4/
END:VEVENT
BEGIN:VEVENT
DTSTART;VALUE=DATE:20250505
DTEND;VALUE=DATE:20250509
DTSTAMP:20260419T051249
CREATED:20250331T174524Z
LAST-MODIFIED:20250331T174524Z
UID:2288-1746403200-1746748799@sprucetreemontessori.com
SUMMARY:Spring Break Camp
DESCRIPTION:Break camp offered May 5 – 8\, Monday – Thursday\, 8 am – 4 pm\, no camp Friday for staff work day. \nCamp Theme: Science Camp — lots of outdoor time to celebrate breakup and the start of summertime. \nEmail Annie to enroll your child by April 25.
URL:https://sprucetreemontessori.com/event/spring-break-camp-2/
LOCATION:Spruce Tree Montessori School\, 286 N. Cushman St.\, Fairbanks\, 99701\, United States
END:VEVENT
END:VCALENDAR