BEGIN:VCALENDAR
VERSION:2.0
PRODID:-//Spruce Tree Montessori - ECPv6.15.20//NONSGML v1.0//EN
CALSCALE:GREGORIAN
METHOD:PUBLISH
X-ORIGINAL-URL:https://sprucetreemontessori.com
X-WR-CALDESC:Events for Spruce Tree Montessori
REFRESH-INTERVAL;VALUE=DURATION:PT1H
X-Robots-Tag:noindex
X-PUBLISHED-TTL:PT1H
BEGIN:VTIMEZONE
TZID:America/Anchorage
BEGIN:DAYLIGHT
TZOFFSETFROM:-0900
TZOFFSETTO:-0800
TZNAME:AKDT
DTSTART:20240310T110000
END:DAYLIGHT
BEGIN:STANDARD
TZOFFSETFROM:-0800
TZOFFSETTO:-0900
TZNAME:AKST
DTSTART:20241103T100000
END:STANDARD
BEGIN:DAYLIGHT
TZOFFSETFROM:-0900
TZOFFSETTO:-0800
TZNAME:AKDT
DTSTART:20250309T110000
END:DAYLIGHT
BEGIN:STANDARD
TZOFFSETFROM:-0800
TZOFFSETTO:-0900
TZNAME:AKST
DTSTART:20251102T100000
END:STANDARD
BEGIN:DAYLIGHT
TZOFFSETFROM:-0900
TZOFFSETTO:-0800
TZNAME:AKDT
DTSTART:20260308T110000
END:DAYLIGHT
BEGIN:STANDARD
TZOFFSETFROM:-0800
TZOFFSETTO:-0900
TZNAME:AKST
DTSTART:20261101T100000
END:STANDARD
END:VTIMEZONE
BEGIN:VEVENT
DTSTART;TZID=America/Anchorage:20250522T150000
DTEND;TZID=America/Anchorage:20250522T160000
DTSTAMP:20260419T051446
CREATED:20250331T175353Z
LAST-MODIFIED:20250331T175353Z
UID:2296-1747926000-1747929600@sprucetreemontessori.com
SUMMARY:Field Day Carnival
DESCRIPTION:Our annual field day event complete with carnival style games for all ages. \nParents welcome 3 – 4 pm on the playground. \nMore details soon!
URL:https://sprucetreemontessori.com/event/field-day-carnival-2/
LOCATION:Spruce Tree Montessori School\, 286 N. Cushman St.\, Fairbanks\, 99701\, United States
END:VEVENT
END:VCALENDAR