BEGIN:VCALENDAR
VERSION:2.0
PRODID:-//Spruce Tree Montessori - ECPv6.15.20//NONSGML v1.0//EN
CALSCALE:GREGORIAN
METHOD:PUBLISH
X-ORIGINAL-URL:https://sprucetreemontessori.com
X-WR-CALDESC:Events for Spruce Tree Montessori
REFRESH-INTERVAL;VALUE=DURATION:PT1H
X-Robots-Tag:noindex
X-PUBLISHED-TTL:PT1H
BEGIN:VTIMEZONE
TZID:America/Anchorage
BEGIN:DAYLIGHT
TZOFFSETFROM:-0900
TZOFFSETTO:-0800
TZNAME:AKDT
DTSTART:20240310T110000
END:DAYLIGHT
BEGIN:STANDARD
TZOFFSETFROM:-0800
TZOFFSETTO:-0900
TZNAME:AKST
DTSTART:20241103T100000
END:STANDARD
BEGIN:DAYLIGHT
TZOFFSETFROM:-0900
TZOFFSETTO:-0800
TZNAME:AKDT
DTSTART:20250309T110000
END:DAYLIGHT
BEGIN:STANDARD
TZOFFSETFROM:-0800
TZOFFSETTO:-0900
TZNAME:AKST
DTSTART:20251102T100000
END:STANDARD
BEGIN:DAYLIGHT
TZOFFSETFROM:-0900
TZOFFSETTO:-0800
TZNAME:AKDT
DTSTART:20260308T110000
END:DAYLIGHT
BEGIN:STANDARD
TZOFFSETFROM:-0800
TZOFFSETTO:-0900
TZNAME:AKST
DTSTART:20261101T100000
END:STANDARD
END:VTIMEZONE
BEGIN:VEVENT
DTSTART;VALUE=DATE:20250410
DTEND;VALUE=DATE:20250412
DTSTAMP:20260419T051552
CREATED:20250331T173623Z
LAST-MODIFIED:20250331T173709Z
UID:2276-1744243200-1744415999@sprucetreemontessori.com
SUMMARY:Parent Teacher Conferences - School Closed
DESCRIPTION:Use SignUpGenius to sign up for a conference with your child’s teacher. \nNo school\, but students and siblings are welcome to join you during your conference; we’ll have childcare and activities available in the gym for them.
URL:https://sprucetreemontessori.com/event/parent-teacher-conferences-school-closed/
END:VEVENT
BEGIN:VEVENT
DTSTART;VALUE=DATE:20250411
DTEND;VALUE=DATE:20250412
DTSTAMP:20260419T051552
CREATED:20250331T173738Z
LAST-MODIFIED:20250331T173819Z
UID:2279-1744329600-1744415999@sprucetreemontessori.com
SUMMARY:Parent Teacher Conferences - School Closed
DESCRIPTION:Use SignUpGenius to sign up for a conference with your child’s teacher. \nNo school\, but students and siblings are welcome to join you during your conference; we’ll have childcare and activities available in the gym for them.
URL:https://sprucetreemontessori.com/event/parent-teacher-conferences-school-closed-2/
END:VEVENT
BEGIN:VEVENT
DTSTART;TZID=America/Anchorage:20250412T180000
DTEND;TZID=America/Anchorage:20250412T220000
DTSTAMP:20260419T051552
CREATED:20250331T174010Z
LAST-MODIFIED:20250331T174010Z
UID:2282-1744480800-1744495200@sprucetreemontessori.com
SUMMARY:Spruce Tree Trivia & Tapas Event
DESCRIPTION:Join us for our annual fundraising event! This year’s theme is Cosmic Casino Night. \nPurchase tickets online at https://paybee.io/@stmst_t2021@65 \nSee you there!
URL:https://sprucetreemontessori.com/event/spruce-tree-trivia-tapas-event-3/
LOCATION:Pike’s Waterfront Lodge
END:VEVENT
BEGIN:VEVENT
DTSTART;TZID=America/Anchorage:20250430T160000
DTEND;TZID=America/Anchorage:20250430T170000
DTSTAMP:20260419T051552
CREATED:20250331T174138Z
LAST-MODIFIED:20250331T174138Z
UID:2284-1746028800-1746032400@sprucetreemontessori.com
SUMMARY:Spring Open House
DESCRIPTION:Stop by to see our classrooms\, talk with teachers\, meet and greet other parents\, and learn more about our school. For current\, newly enrolled\, and prospective families.
URL:https://sprucetreemontessori.com/event/spring-open-house-4/
LOCATION:Spruce Tree Montessori School\, 286 N. Cushman St.\, Fairbanks\, 99701\, United States
END:VEVENT
END:VCALENDAR